BEGIN:VCALENDAR
VERSION:2.0
PRODID:-//Roosevelt Park Zoo - ECPv6.15.20//NONSGML v1.0//EN
CALSCALE:GREGORIAN
METHOD:PUBLISH
X-WR-CALNAME:Roosevelt Park Zoo
X-ORIGINAL-URL:https://rooseveltparkzoo.com
X-WR-CALDESC:Events for Roosevelt Park Zoo
REFRESH-INTERVAL;VALUE=DURATION:PT1H
X-Robots-Tag:noindex
X-PUBLISHED-TTL:PT1H
BEGIN:VTIMEZONE
TZID:UTC
BEGIN:STANDARD
TZOFFSETFROM:+0000
TZOFFSETTO:+0000
TZNAME:UTC
DTSTART:20230101T000000
END:STANDARD
END:VTIMEZONE
BEGIN:VEVENT
DTSTART;TZID=UTC:20241230T083000
DTEND;TZID=UTC:20241230T170000
DTSTAMP:20260422T172223
CREATED:20241224T213624Z
LAST-MODIFIED:20241224T213736Z
UID:1583-1735547400-1735578000@rooseveltparkzoo.com
SUMMARY:Winter Day Camp 2024
DESCRIPTION:No school? No problem! Register your 5-to-10-year-olds for this year’s Winter Schools Out Day Camp here at Roosevelt Park Zoo!
URL:https://rooseveltparkzoo.com/event/1583/
LOCATION:North Dakota
ATTACH;FMTTYPE=image/png:https://rooseveltparkzoo.com/wp-content/uploads/2024/12/Spring-Day-Camp-3.png
END:VEVENT
END:VCALENDAR